BEGIN:VCALENDAR
PRODID:-//eluceo/ical//2.0/EN
VERSION:2.0
CALSCALE:GREGORIAN
BEGIN:VEVENT
UID:d877bed06954cfa3ca313708f5364064
DTSTAMP:20260423T162214Z
SUMMARY:10:30 AM Temple Morning Worship
DESCRIPTION:Jewish Federation & Foundation of Northeast Florida\nCommunity 
 agencies\, synagogues\, schools\nhttps://jewishjacksonville.org/jewish-com
 munity-information/1030-am-temple-morning-worship1-157054\n\nMorning Worsh
 ip
DTSTART;TZID=America/New_York:20150912T103000
DTEND;TZID=America/New_York:20150912T120000
END:VEVENT
END:VCALENDAR
