BEGIN:VCALENDAR
PRODID:-//eluceo/ical//2.0/EN
VERSION:2.0
CALSCALE:GREGORIAN
BEGIN:VEVENT
UID:623fe5db168c63d40d794de6ec65bba4
DTSTAMP:20260424T014420Z
SUMMARY:10 AM Women's Philanthropy Steering Committee Meeting
DESCRIPTION:Jewish Federation & Foundation of Northeast Florida\nCommunity 
 agencies\, synagogues\, schools\nhttps://jewishjacksonville.org/jewish-com
 munity-information/10-am-womens-philanthropy-steering-committee-meeting-Ma
 rch-412045\n\n10 AM Women's Philanthropy Steering Committee Meeting \n\nJ
 CA 
DTSTART;TZID=America/New_York:20230322T100000
DTEND;TZID=America/New_York:20230322T110000
END:VEVENT
END:VCALENDAR
