BEGIN:VCALENDAR
PRODID:-//eluceo/ical//2.0/EN
VERSION:2.0
CALSCALE:GREGORIAN
BEGIN:VEVENT
UID:c10747ff76cde9d2ad9b79a7818cdb69
DTSTAMP:20260423T032748Z
SUMMARY:11 AM Women's Philanthropy Steering Committee Meeting
DESCRIPTION:Jewish Federation & Foundation of Northeast Florida\nFederation
  events and programs\nhttps://jewishjacksonville.org/federation-events-and
 -programs/womens-philanthropy-steering-committee-meeting-August-412042\n\n
 11 AM Women's Philanthropy Steering Committee Meeting \n\nJCA \n\n 
DTSTART;TZID=America/New_York:20220830T110000
DTEND;TZID=America/New_York:20220830T130000
END:VEVENT
END:VCALENDAR
