BEGIN:VCALENDAR
PRODID:-//eluceo/ical//2.0/EN
VERSION:2.0
CALSCALE:GREGORIAN
BEGIN:VEVENT
UID:4ab923b1fe2e18617e73ec14c00abbdb
DTSTAMP:20260422T182830Z
SUMMARY:Women's Philanthropy Connections: Countering An Active Threat
DESCRIPTION:Jewish Federation & Foundation of Northeast Florida\nFederation
  events and programs\nhttps://jewishjacksonville.org/federation-events-and
 -programs/womens-philanthropy-connections-CATT-457820\n\nJoin us for a com
 prehensive training program to counter an active threat event led by featu
 red guest and our Community Security Director\, Alex Silverstein. \n\nWhe
 n: Wednesday February 21\, 2024 at 10 A.M.\n\nWhere: At the home of Erica 
 Jolles \n\nRSVP Here: https://give.classy.org/wpconnectionsfeb2024
DTSTART;TZID=America/New_York:20240221T100000
DTEND;TZID=America/New_York:20240221T120000
END:VEVENT
END:VCALENDAR
