BEGIN:VCALENDAR
PRODID:-//eluceo/ical//2.0/EN
VERSION:2.0
CALSCALE:GREGORIAN
BEGIN:VEVENT
UID:adcaa9108fb5d025edc65f70029e3206
DTSTAMP:20260424T154320Z
SUMMARY:Sh'mini Atzeret
DESCRIPTION:Jewish Federation & Foundation of Northeast Florida\nFederation
  events and programs\nhttps://jewishjacksonville.org/federation-events-and
 -programs/shmini-atzeret2016-175634\n\nFederation office closed in observa
 nce of Sh'mini Atzeret.
DTSTART;TZID=America/New_York:20161024T000000
DTEND;TZID=America/New_York:20161024T235500
END:VEVENT
END:VCALENDAR
