BEGIN:VCALENDAR
PRODID:-//eluceo/ical//2.0/EN
VERSION:2.0
CALSCALE:GREGORIAN
BEGIN:VEVENT
UID:05fcf104714cca65524e7d1299f0fb36
DTSTAMP:20260424T051622Z
SUMMARY:5 PM Federation Board Meeting
DESCRIPTION:Jewish Federation & Foundation of Northeast Florida\nFederation
  events and programs\nhttps://jewishjacksonville.org/federation-events-and
 -programs/sept-federation-board-meeting-411781\n\nSeptember Board Meeting
  \n\nLocation TBD 
DTSTART;TZID=America/New_York:20220929T170000
DTEND;TZID=America/New_York:20220929T183000
END:VEVENT
END:VCALENDAR
