BEGIN:VCALENDAR
PRODID:-//eluceo/ical//2.0/EN
VERSION:2.0
CALSCALE:GREGORIAN
BEGIN:VEVENT
UID:824b713c0e385c44862fa8b8469d782b
DTSTAMP:20260420T122251Z
SUMMARY:6 PM Federation Board Meeting
DESCRIPTION:Jewish Federation & Foundation of Northeast Florida\nFederation
  events and programs\nhttps://jewishjacksonville.org/federation-events-and
 -programs/sept-23-federation-board-meeting-381219\n\nJewish Federation & F
 oundation of Northeast Florida Board Meeting\n\nSeptember 23\, 2021 6:00-7
 :00 p.m.
DTSTART;TZID=America/New_York:20210923T180000
DTEND;TZID=America/New_York:20210923T190000
END:VEVENT
END:VCALENDAR
