BEGIN:VCALENDAR
PRODID:-//eluceo/ical//2.0/EN
VERSION:2.0
CALSCALE:GREGORIAN
BEGIN:VEVENT
UID:9364563b4d2048c45099577c1239dfa6
DTSTAMP:20260425T032443Z
SUMMARY:6:00 p.m. rGEN Quarterly Cocktails
DESCRIPTION:Jewish Federation & Foundation of Northeast Florida\nFederation
  events and programs\nhttps://jewishjacksonville.org/federation-events-and
 -programs/nov-quarterly-cocktails-311445\n\nrGEN Quarterly Cocktails\n\nNo
 vember 20\, 2019\n\n6 - 8 p.m.\n\n 
DTSTART;TZID=America/New_York:20191120T180000
DTEND;TZID=America/New_York:20191120T200000
END:VEVENT
END:VCALENDAR
