BEGIN:VCALENDAR
PRODID:-//eluceo/ical//2.0/EN
VERSION:2.0
CALSCALE:GREGORIAN
BEGIN:VEVENT
UID:2b6c232749e8676062dc5eca3ebb9740
DTSTAMP:20260420T151242Z
SUMMARY:10:00 a.m. Federation Women's Division Steering Committee Meeting
DESCRIPTION:Jewish Federation & Foundation of Northeast Florida\nFederation
  events and programs\nhttps://jewishjacksonville.org/federation-events-and
 -programs/nov-federation-womens-division-steering-committee-meeting-310280
 \n\nFederation Women's Division Steering Committee Meeting\n\nNovember 20\
 , 2019\n\n10:00 a.m. - 11:00 a.m.\n\n 
DTSTART;TZID=America/New_York:20191120T100000
DTEND;TZID=America/New_York:20191120T110000
END:VEVENT
END:VCALENDAR
