BEGIN:VCALENDAR
PRODID:-//eluceo/ical//2.0/EN
VERSION:2.0
CALSCALE:GREGORIAN
BEGIN:VEVENT
UID:8aa23dda51057f1a6de0f75fed7312f6
DTSTAMP:20260420T083949Z
SUMMARY:5 PM Federation Board Meeting
DESCRIPTION:Jewish Federation & Foundation of Northeast Florida\nFederation
  events and programs\nhttps://jewishjacksonville.org/federation-events-and
 -programs/nov-federation-board-meeting-411783\n\nJewish Federation & Found
 ation Board Meeting \n\nNovember \n\nLocation TBD 
DTSTART;TZID=America/New_York:20221110T170000
DTEND;TZID=America/New_York:20221110T180000
END:VEVENT
END:VCALENDAR
