BEGIN:VCALENDAR
PRODID:-//eluceo/ical//2.0/EN
VERSION:2.0
CALSCALE:GREGORIAN
BEGIN:VEVENT
UID:b001fa1b2a4d788bca3ce14cff12a768
DTSTAMP:20260425T020319Z
SUMMARY:March Women's Philanthropy Connections!
DESCRIPTION:Jewish Federation & Foundation of Northeast Florida\nFederation
  events and programs\nhttps://jewishjacksonville.org/federation-events-and
 -programs/march-womens-philanthropy-connections-395195\n\nWomen’s Philan
 thropy Connections!\n\nJoin us each month for a fun and interactive progra
 m for women to connect with other women throughout Northeast Florida!\n\nM
 arch 10\, hosted by Suzie Becker\, Martini Mishigas \n\n \n\nhttps://even
 ts.idonate.com/mishigasmadness 
DTSTART;TZID=America/New_York:20220310T190000
DTEND;TZID=America/New_York:20220310T210000
END:VEVENT
END:VCALENDAR
