BEGIN:VCALENDAR
PRODID:-//eluceo/ical//2.0/EN
VERSION:2.0
CALSCALE:GREGORIAN
BEGIN:VEVENT
UID:a2044b969dbc8d2efa2282501b0b2393
DTSTAMP:20260422T180726Z
SUMMARY:6:00 p.m. Federation Board Meeting
DESCRIPTION:Jewish Federation & Foundation of Northeast Florida\nFederation
  events and programs\nhttps://jewishjacksonville.org/federation-events-and
 -programs/mar-federation-board-meeting-311500\n\nFederation Board Meeting\
 n\nMarch 26\, 2020\n\n6:00 - 7:30 p.m.
DTSTART;TZID=America/New_York:20200326T180000
DTEND;TZID=America/New_York:20200326T193000
END:VEVENT
END:VCALENDAR
