BEGIN:VCALENDAR
PRODID:-//eluceo/ical//2.0/EN
VERSION:2.0
CALSCALE:GREGORIAN
BEGIN:VEVENT
UID:2559bff5c46a2613a000e754d26fbd4b
DTSTAMP:20260422T065027Z
SUMMARY:5:15 PM JFFNF I&O P2G Subcommittee October Meeting
DESCRIPTION:Jewish Federation & Foundation of Northeast Florida\nFederation
  events and programs\nhttps://jewishjacksonville.org/federation-events-and
 -programs/jffnf-io-p2g-subcommittee-october-meeting-494235\n\n5:15 PM JFFN
 F I&O P2G Subcommittee October Meeting\n\nZoom Meeting
DTSTART;TZID=America/New_York:20251023T171500
DTEND;TZID=America/New_York:20251023T181500
END:VEVENT
END:VCALENDAR
