BEGIN:VCALENDAR
PRODID:-//eluceo/ical//2.0/EN
VERSION:2.0
CALSCALE:GREGORIAN
BEGIN:VEVENT
UID:b8c3947b1d155fd6e2ea0efc9423a29e
DTSTAMP:20260422T231116Z
SUMMARY:"How to be an Expert Witness" Society of Healers Program
DESCRIPTION:Jewish Federation & Foundation of Northeast Florida\nFederation
  events and programs\nhttps://jewishjacksonville.org/federation-events-and
 -programs/how-to-be-an-expert-witness-society-of-healers-program-399419\n\
 n"How to be an Expert Witness"  \n\nAlan Mizrahi & Dr. Randell Alexander
 \n\nSociety of Healers Spring Program \n\nPart 1 
DTSTART;TZID=America/New_York:20220517T183000
DTEND;TZID=America/New_York:20220517T200000
END:VEVENT
END:VCALENDAR
