BEGIN:VCALENDAR
PRODID:-//eluceo/ical//2.0/EN
VERSION:2.0
CALSCALE:GREGORIAN
BEGIN:VEVENT
UID:9bd5415650d1cdd30261f001d84cab38
DTSTAMP:20260420T063128Z
SUMMARY:Community Family Havdalah
DESCRIPTION:Jewish Federation & Foundation of Northeast Florida\nFederation
  events and programs\nhttps://jewishjacksonville.org/federation-events-and
 -programs/havdalah-with-ypf-and-jca-435272\n\nBring your family as we come
  together as a community to end Shabbat and join in crafts and activities 
 with an engaging service for our annual event to end Shabbat!  This event
  is in partnership with the Jewish Federation & Foundation of Northeast Fl
 orida\, PJ Library\, and all of our local synagogues!\n\nSat\, December 16
 \n\n6:45pm\n\nJacksonville Jewish Center-Beth Shalom Park\n\nFree to the c
 ommunity\n\n 
DTSTART;TZID=America/New_York:20231216T184500
DTEND;TZID=America/New_York:20231216T204500
END:VEVENT
END:VCALENDAR
