BEGIN:VCALENDAR
PRODID:-//eluceo/ical//2.0/EN
VERSION:2.0
CALSCALE:GREGORIAN
BEGIN:VEVENT
UID:eb08871101fcc798cc2782d00cc932ef
DTSTAMP:20260422T133425Z
SUMMARY:6:00 p.m. Federation Women's Division Beaches Happy Hour
DESCRIPTION:Jewish Federation & Foundation of Northeast Florida\nFederation
  events and programs\nhttps://jewishjacksonville.org/federation-events-and
 -programs/federation-womens-division-beaches-happy-hour-318690\n\nFederati
 on Women's Division Beaches Happy Hour\n\nSeptember 26\, 2019\n\n6:00 - 7:
 30 P.M.\n\nMulligans Pub (43 PGA Tour\, Sawgrass Village)\n\n 
DTSTART;TZID=America/New_York:20190926T180000
DTEND;TZID=America/New_York:20190926T193000
END:VEVENT
END:VCALENDAR
