BEGIN:VCALENDAR
PRODID:-//eluceo/ical//2.0/EN
VERSION:2.0
CALSCALE:GREGORIAN
BEGIN:VEVENT
UID:7f93a1b6938d7932c33654ff446d60f9
DTSTAMP:20260421T080359Z
SUMMARY:12:30PM Federation Campaign Kick-Off Event
DESCRIPTION:Jewish Federation & Foundation of Northeast Florida\nFederation
  events and programs\nhttps://jewishjacksonville.org/federation-events-and
 -programs/federation-campaign-kick-off-event-188025\n\n This year\, as we
  launch the 2017 Annual Campaign\, everyone is invited to come together to
  sing\, dance and have yet another extraordinary experience with the Jewis
 h community as Dan Nichols will perform a concert with his band\, Eighteen
 \, on Sunday\, Sept. 18th.  \n\nTo make your campaign gift and RSVP for t
 he concert\, go to jewishjacksonville.org/2017fedkickoff or call 904-448-5
 000. For more information about the Federation Annual Campaign Kickoff cel
 ebration\, please contact Erin Cohen at 90...
DTSTART;TZID=America/New_York:20160918T123000
DTEND;TZID=America/New_York:20160918T153000
END:VEVENT
END:VCALENDAR
