BEGIN:VCALENDAR
PRODID:-//eluceo/ical//2.0/EN
VERSION:2.0
CALSCALE:GREGORIAN
BEGIN:VEVENT
UID:559ee40c658300141091cd659210dde8
DTSTAMP:20260421T120332Z
SUMMARY:April Women's Philanthropy Connections!
DESCRIPTION:Jewish Federation & Foundation of Northeast Florida\nFederation
  events and programs\nhttps://jewishjacksonville.org/federation-events-and
 -programs/april-women-395196\n\nWomen’s Philanthropy Connections!\n\nJoi
 n us each month for a fun and interactive program for women to connect wit
 h other women throughout Northeast Florida!\n\nApril 5\, Hosted by Andrea 
 Mail and Jeanine Rogozinski\, details to follow\n\nhttps://events.idonate.
 com/wpconnections
DTSTART;TZID=America/New_York:20220405T000000
DTEND;TZID=America/New_York:20220405T235959
END:VEVENT
END:VCALENDAR
