BEGIN:VCALENDAR
PRODID:-//eluceo/ical//2.0/EN
VERSION:2.0
CALSCALE:GREGORIAN
BEGIN:VEVENT
UID:28ff43be09d2c52cb9f40452769e3c7c
DTSTAMP:20260424T005422Z
SUMMARY:6 PM Federation Board Meeting
DESCRIPTION:Jewish Federation & Foundation of Northeast Florida\nFederation
  events and programs\nhttps://jewishjacksonville.org/federation-events-and
 -programs/april-28-federation-board-meeting-381259\n\nJewish Federation & 
 Foundation of Northeast Florida Board Meeting\n\nApril 28\, 2022 6:00-7:00
  p.m.
DTSTART;TZID=America/New_York:20220428T180000
DTEND;TZID=America/New_York:20220428T190000
END:VEVENT
END:VCALENDAR
