BEGIN:VCALENDAR
PRODID:-//eluceo/ical//2.0/EN
VERSION:2.0
CALSCALE:GREGORIAN
BEGIN:VEVENT
UID:0586cc0a5a5d257126f3c08b2b2fe0f0
DTSTAMP:20260423T231030Z
SUMMARY:Alan Margolies Retirement Party
DESCRIPTION:Jewish Federation & Foundation of Northeast Florida\nFederation
  events and programs\nhttps://jewishjacksonville.org/federation-events-and
 -programs/alan-margolies-retirement-party-384550\n\nAlan Margolies Retirem
 ent Party\n\nThursday\, December 2\, 2021\n\n6 PM | Jacksonville Jewish Ce
 nter
DTSTART;TZID=America/New_York:20211202T180000
DTEND;TZID=America/New_York:20211202T200000
END:VEVENT
END:VCALENDAR
