BEGIN:VCALENDAR
PRODID:-//eluceo/ical//2.0/EN
VERSION:2.0
CALSCALE:GREGORIAN
BEGIN:VEVENT
UID:9b1239c47825f19bc469a1f610b6d0c3
DTSTAMP:20260420T172426Z
SUMMARY:9 AM Women's Philanthropy LEAD
DESCRIPTION:Jewish Federation & Foundation of Northeast Florida\nFederation
  events and programs\nhttps://jewishjacksonville.org/federation-events-and
 -programs/9am-womens-philanthropy-lead_Nov-414335\n\nMini Mission \n\nBeg
 ins and ends at JCA 
DTSTART;TZID=America/New_York:20221106T090000
DTEND;TZID=America/New_York:20221106T120000
END:VEVENT
END:VCALENDAR
