BEGIN:VCALENDAR
PRODID:-//eluceo/ical//2.0/EN
VERSION:2.0
CALSCALE:GREGORIAN
BEGIN:VEVENT
UID:9a46bf8483bc2f150f823d7e1e93737c
DTSTAMP:20260424T224409Z
SUMMARY:8AFederation Super Sunday*
DESCRIPTION:Jewish Federation & Foundation of Northeast Florida\nFederation
  events and programs\nhttps://jewishjacksonville.org/federation-events-and
 -programs/8afederation-super-sunday\n\n8AFederation Super Sunday*
DTSTART;TZID=America/New_York:20130203T090000
DTEND;TZID=America/New_York:20130203T120000
END:VEVENT
END:VCALENDAR
