BEGIN:VCALENDAR
PRODID:-//eluceo/ical//2.0/EN
VERSION:2.0
CALSCALE:GREGORIAN
BEGIN:VEVENT
UID:b067f7b75f7a73b8fae31ab774d8f311
DTSTAMP:20260424T202124Z
SUMMARY:7PM Federation Board of Directors Meeting 
DESCRIPTION:Jewish Federation & Foundation of Northeast Florida\nFederation
  events and programs\nhttps://jewishjacksonville.org/federation-events-and
 -programs/7pm-federation-board-of-directors-meeting-march-67497\n\nFederat
 ion Board of Directors meets from 7-8 pm at the JCA.
DTSTART;TZID=America/New_York:20150326T190000
DTEND;TZID=America/New_York:20150326T200000
END:VEVENT
END:VCALENDAR
