BEGIN:VCALENDAR
PRODID:-//eluceo/ical//2.0/EN
VERSION:2.0
CALSCALE:GREGORIAN
BEGIN:VEVENT
UID:cf7c60334869e4f921dc6f7665274261
DTSTAMP:20260419T152827Z
SUMMARY:7PM Federation Board of Directors Meeting
DESCRIPTION:Jewish Federation & Foundation of Northeast Florida\nFederation
  events and programs\nhttps://jewishjacksonville.org/federation-events-and
 -programs/7pm-federation-board-of-directors-meeting-dec-67491\n\nBoard of 
 Directors meeting at the JCA from 7-8pm\n\n​New location as of 10/29/14:
  Donziger Media Library
DTSTART;TZID=America/New_York:20141217T190000
DTEND;TZID=America/New_York:20141217T200000
END:VEVENT
END:VCALENDAR
