BEGIN:VCALENDAR
PRODID:-//eluceo/ical//2.0/EN
VERSION:2.0
CALSCALE:GREGORIAN
BEGIN:VEVENT
UID:3f3f8ded4ed33b6fca272a4e3055ce21
DTSTAMP:20260420T110820Z
SUMMARY:7PM Federation Board of Directors Meeting  
DESCRIPTION:Jewish Federation & Foundation of Northeast Florida\nFederation
  events and programs\nhttps://jewishjacksonville.org/federation-events-and
 -programs/7pm-federation-board-of-directors-meeting-april-67500\n\nFederat
 ion Board of Directors meets from 7-8 pm at the JCA.
DTSTART;TZID=America/New_York:20150423T190000
DTEND;TZID=America/New_York:20150423T200000
END:VEVENT
END:VCALENDAR
