BEGIN:VCALENDAR
PRODID:-//eluceo/ical//2.0/EN
VERSION:2.0
CALSCALE:GREGORIAN
BEGIN:VEVENT
UID:9960fc219e4916ceef607606e1fc04fd
DTSTAMP:20260424T201849Z
SUMMARY:7PM Federation 5-Agency Annual Meeting
DESCRIPTION:Jewish Federation & Foundation of Northeast Florida\nFederation
  events and programs\nhttps://jewishjacksonville.org/federation-events-and
 -programs/7pm-federation-5-agency-annual-meeting-101508\n\nDetails to foll
 ow.
DTSTART;TZID=America/New_York:20150527T190000
DTEND;TZID=America/New_York:20150527T210000
END:VEVENT
END:VCALENDAR
