BEGIN:VCALENDAR
PRODID:-//eluceo/ical//2.0/EN
VERSION:2.0
CALSCALE:GREGORIAN
BEGIN:VEVENT
UID:ad441ec96ce0c7d539da0f652f44318f
DTSTAMP:20260422T235321Z
SUMMARY:7:00PM Federation Board of Director's Meeting
DESCRIPTION:Jewish Federation & Foundation of Northeast Florida\nFederation
  events and programs\nhttps://jewishjacksonville.org/federation-events-and
 -programs/700pm-federation-board-of-directors-meeting\n\n7:00PM Federation
  Board of Director's Meeting
DTSTART;TZID=America/New_York:20131210T190000
DTEND;TZID=America/New_York:20131210T200000
END:VEVENT
END:VCALENDAR
