BEGIN:VCALENDAR
PRODID:-//eluceo/ical//2.0/EN
VERSION:2.0
CALSCALE:GREGORIAN
BEGIN:VEVENT
UID:88a58806f1f60ec357513d5393171137
DTSTAMP:20260425T182324Z
SUMMARY:6PM JFFNF I&O Committee Kick Off Meeting & Social
DESCRIPTION:Jewish Federation & Foundation of Northeast Florida\nFederation
  events and programs\nhttps://jewishjacksonville.org/federation-events-and
 -programs/6pm-jffnf-io-kick-off-meeting-social-493280\n\nJFFNF I&O Committ
 ee Kick Off Meeting & Social\n\nLocation TBD
DTSTART;TZID=America/New_York:20250904T180000
DTEND;TZID=America/New_York:20250904T200000
END:VEVENT
END:VCALENDAR
