BEGIN:VCALENDAR
PRODID:-//eluceo/ical//2.0/EN
VERSION:2.0
CALSCALE:GREGORIAN
BEGIN:VEVENT
UID:46bfe1660672976b4fed557c2fec9adf
DTSTAMP:20260423T224433Z
SUMMARY:6PM Five Agency Annual Meeting
DESCRIPTION:Jewish Federation & Foundation of Northeast Florida\nFederation
  events and programs\nhttps://jewishjacksonville.org/federation-events-and
 -programs/6pm-five-agency-annual-meeting\n\n5 Agency Annual Meeting
DTSTART;TZID=America/New_York:20130530T180000
DTEND;TZID=America/New_York:20130530T200000
END:VEVENT
END:VCALENDAR
