BEGIN:VCALENDAR
PRODID:-//eluceo/ical//2.0/EN
VERSION:2.0
CALSCALE:GREGORIAN
BEGIN:VEVENT
UID:27d73b83977bcf1233b0857b9f626f71
DTSTAMP:20260421T001941Z
SUMMARY:6PM Federation Executive Committee Meeting
DESCRIPTION:Jewish Federation & Foundation of Northeast Florida\nFederation
  events and programs\nhttps://jewishjacksonville.org/federation-events-and
 -programs/6pm-federation-executive-committee-meeting\n\n6PM Federation Exe
 cutive Committee Meeting
DTSTART;TZID=America/New_York:20140227T180000
DTEND;TZID=America/New_York:20140227T190000
END:VEVENT
END:VCALENDAR
