BEGIN:VCALENDAR
PRODID:-//eluceo/ical//2.0/EN
VERSION:2.0
CALSCALE:GREGORIAN
BEGIN:VEVENT
UID:e5655fe82b78a9791ec2bfd03dad4961
DTSTAMP:20260424T045220Z
SUMMARY:6PM Federation Board of Directors/Executive Committee Meeting
DESCRIPTION:Jewish Federation & Foundation of Northeast Florida\nFederation
  events and programs\nhttps://jewishjacksonville.org/federation-events-and
 -programs/6pm-federation-board-of-directorsexecutive-committee-meeting-674
 87\n\nBoard and Executive Committee meets together at the JCA for the firs
 t Board meeting of the 2015 Campaign.
DTSTART;TZID=America/New_York:20140929T180000
DTEND;TZID=America/New_York:20140929T200000
END:VEVENT
END:VCALENDAR
