BEGIN:VCALENDAR
PRODID:-//eluceo/ical//2.0/EN
VERSION:2.0
CALSCALE:GREGORIAN
BEGIN:VEVENT
UID:2fcabe6286ccabaded62b382c1f07082
DTSTAMP:20260423T194856Z
SUMMARY:6P Federation Executive Board Meeting
DESCRIPTION:Jewish Federation & Foundation of Northeast Florida\nFederation
  events and programs\nhttps://jewishjacksonville.org/federation-events-and
 -programs/6p-federation-executive-board-meeting\n\n6P Fed Executive Board 
 Meeting
DTSTART;TZID=America/New_York:20130228T180000
DTEND;TZID=America/New_York:20130228T190000
END:VEVENT
END:VCALENDAR
