BEGIN:VCALENDAR
PRODID:-//eluceo/ical//2.0/EN
VERSION:2.0
CALSCALE:GREGORIAN
BEGIN:VEVENT
UID:ac94f618e8e4c3f69b3e9f7931b5263a
DTSTAMP:20260422T235037Z
SUMMARY:6:45 PM Federation rGen Mix n Mingle Vodka Latke
DESCRIPTION:Jewish Federation & Foundation of Northeast Florida\nFederation
  events and programs\nhttps://jewishjacksonville.org/federation-events-and
 -programs/645-pm-federation-rgen-mix-n-mingle-vodka-latke\n\n6:45 PM Feder
 ation rGen Mix n Mingle Vodka Latke
DTSTART;TZID=America/New_York:20131204T184500
DTEND;TZID=America/New_York:20131204T213000
END:VEVENT
END:VCALENDAR
