BEGIN:VCALENDAR
PRODID:-//eluceo/ical//2.0/EN
VERSION:2.0
CALSCALE:GREGORIAN
BEGIN:VEVENT
UID:e22a5be6292a0e9d493d1578891221fd
DTSTAMP:20260421T000546Z
SUMMARY:6:00PM Federation Board Meeting
DESCRIPTION:Jewish Federation & Foundation of Northeast Florida\nFederation
  events and programs\nhttps://jewishjacksonville.org/federation-events-and
 -programs/600pm-Octfederation-board-meeting-275622\n\nFederation Board Mee
 ting \n\n6:00PM
DTSTART;TZID=America/New_York:20181030T000000
DTEND;TZID=America/New_York:20181030T000000
END:VEVENT
END:VCALENDAR
