BEGIN:VCALENDAR
PRODID:-//eluceo/ical//2.0/EN
VERSION:2.0
CALSCALE:GREGORIAN
BEGIN:VEVENT
UID:f9fe18d9a0e8d15bd9b92da3d65df4f7
DTSTAMP:20260422T212834Z
SUMMARY:6:00 PM FUNDRAISER Federation Girlfriend Connection
DESCRIPTION:Jewish Federation & Foundation of Northeast Florida\nFederation
  events and programs\nhttps://jewishjacksonville.org/federation-events-and
 -programs/600-pm-fundraiser-federation-girlfriend-connection-195489\n\nWom
 en's Division Girlfriend Connection \n\n6pm - 9pm\n\nJacksonville Jewish 
 Center\n\nFeatured Speaker\, Erin Zaikis\, founder of Sundara\n\nEvent Cha
 irs: Risa Herman & Jenn Neuman\n\n\n\n\n\n\n\n\n\n\n\n\n \n\n​$45 ticke
 t\n\n$100 Patron\n\n$250 Benefactor​\n\nFor more information\, contact E
 rin Cohen at 904-448-500\, ext. 1205 or erinc@jewishjacksonville.org
DTSTART;TZID=America/New_York:20170518T180000
DTEND;TZID=America/New_York:20170518T210000
END:VEVENT
END:VCALENDAR
