BEGIN:VCALENDAR
PRODID:-//eluceo/ical//2.0/EN
VERSION:2.0
CALSCALE:GREGORIAN
BEGIN:VEVENT
UID:2a99e614135f2717b48176d34759b969
DTSTAMP:20260420T185035Z
SUMMARY:6:00 PM Federation Allocations Meeting 3
DESCRIPTION:Jewish Federation & Foundation of Northeast Florida\nFederation
  events and programs\nhttps://jewishjacksonville.org/federation-events-and
 -programs/600-pm-federation-allocations-meeting-3-286532\n\nFederation All
 ocations Meeting\n\n6:00 PM\n\nJCA
DTSTART;TZID=America/New_York:20190507T180000
DTEND;TZID=America/New_York:20190507T200000
END:VEVENT
END:VCALENDAR
