BEGIN:VCALENDAR
PRODID:-//eluceo/ical//2.0/EN
VERSION:2.0
CALSCALE:GREGORIAN
BEGIN:VEVENT
UID:de3b6389b42834212089884720cea6ad
DTSTAMP:20260424T085411Z
SUMMARY:6 PM YPF Steering Committee Meeting
DESCRIPTION:Jewish Federation & Foundation of Northeast Florida\nFederation
  events and programs\nhttps://jewishjacksonville.org/federation-events-and
 -programs/6-pmypf-steering-committee-meeting-385913\n\nYPF Steering Commit
 tee Meeting 
DTSTART;TZID=America/New_York:20211214T180000
DTEND;TZID=America/New_York:20211214T193000
END:VEVENT
END:VCALENDAR
