BEGIN:VCALENDAR
PRODID:-//eluceo/ical//2.0/EN
VERSION:2.0
CALSCALE:GREGORIAN
BEGIN:VEVENT
UID:1a135637043daa426a4a99d5c6e221a3
DTSTAMP:20260420T074000Z
SUMMARY:6 PM rGEN Purim Another One 2016
DESCRIPTION:Jewish Federation & Foundation of Northeast Florida\nFederation
  events and programs\nhttps://jewishjacksonville.org/federation-events-and
 -programs/6-pm-rgen-purim-another-one-2016-149542\n\nCALLING ALL YOUNG PRO
 FESSIONALS:\n\n \n\nJoin rGEN and our event chair Zachary Schwartz\, as
  well at Rabbi Matt Cohen and Cantor Jesse Holzer for our annual Puri'm
  celebration - Puri'm Another One!\n\n \n\nEvent co-sponsored by: So-
 Shul Network of the Jacksonville Center 20's/30's and The Temple 20's & 3
 0's\n\n\n\n\nDATE: Monday\, March 21st\nTIME: 6:00 P.M.\nLOCATION: Kickba
 cks Gastropub in Riverside (910 King Street\, Jacksonville\, FL 32204)\n
  \n\nCOST: FREE! (Appetizers provid...
DTSTART;TZID=America/New_York:20160321T180000
DTEND;TZID=America/New_York:20160321T210000
END:VEVENT
END:VCALENDAR
