BEGIN:VCALENDAR
PRODID:-//eluceo/ical//2.0/EN
VERSION:2.0
CALSCALE:GREGORIAN
BEGIN:VEVENT
UID:b896ef9b7fcd168628022ad56e55a525
DTSTAMP:20260420T115220Z
SUMMARY:5:30PM Federation Women's Division Steering Committee Meeting
DESCRIPTION:Jewish Federation & Foundation of Northeast Florida\nFederation
  events and programs\nhttps://jewishjacksonville.org/federation-events-and
 -programs/530pm-federation-womens-division-steering-committee-meeting-1262
 35\n\nWomen's Division Steering Committee
DTSTART;TZID=America/New_York:20150217T173000
DTEND;TZID=America/New_York:20150217T183000
END:VEVENT
END:VCALENDAR
