BEGIN:VCALENDAR
PRODID:-//eluceo/ical//2.0/EN
VERSION:2.0
CALSCALE:GREGORIAN
BEGIN:VEVENT
UID:08073fe1423347c12e342673ef0eb95d
DTSTAMP:20260420T084220Z
SUMMARY:5:15 PM JFFNF I&O P2G Subcommittee June Meeting
DESCRIPTION:Jewish Federation & Foundation of Northeast Florida\nFederation
  events and programs\nhttps://jewishjacksonville.org/federation-events-and
 -programs/515-pm-jffnf-io-p2g-subcommittee-june-meeting-494256\n\nJFFNF I&
 O P2G Subcommittee Meeting\n\nZoom
DTSTART;TZID=America/New_York:20260610T171500
DTEND;TZID=America/New_York:20260610T181500
END:VEVENT
END:VCALENDAR
