BEGIN:VCALENDAR
PRODID:-//eluceo/ical//2.0/EN
VERSION:2.0
CALSCALE:GREGORIAN
BEGIN:VEVENT
UID:b8f1e9ac98370a00ee7fcc60084307f3
DTSTAMP:20260426T010627Z
SUMMARY:5:15 PM JFFNF I&O P2G Subcommittee February Meeting
DESCRIPTION:Jewish Federation & Foundation of Northeast Florida\nFederation
  events and programs\nhttps://jewishjacksonville.org/federation-events-and
 -programs/515-pm-jffnf-io-p2g-subcommittee-february-meeting-494253\n\nJFFN
 F I&O P2G Subcommittee Meeting\n\nZoom
DTSTART;TZID=America/New_York:20260218T171500
DTEND;TZID=America/New_York:20260218T181500
END:VEVENT
END:VCALENDAR
