BEGIN:VCALENDAR
PRODID:-//eluceo/ical//2.0/EN
VERSION:2.0
CALSCALE:GREGORIAN
BEGIN:VEVENT
UID:c2a161f2d696049633d54684e7db3cc5
DTSTAMP:20260421T024420Z
SUMMARY:5:15 PM JFFNF I&O P2G Subcommittee April Meeting
DESCRIPTION:Jewish Federation & Foundation of Northeast Florida\nFederation
  events and programs\nhttps://jewishjacksonville.org/federation-events-and
 -programs/515-pm-jffnf-io-p2g-subcommittee-april-meeting-494254\n\nJFFNF I
 &O P2G Subcommittee Meeting\n\nZoom
DTSTART;TZID=America/New_York:20260415T171500
DTEND;TZID=America/New_York:20260415T181500
END:VEVENT
END:VCALENDAR
