BEGIN:VCALENDAR
PRODID:-//eluceo/ical//2.0/EN
VERSION:2.0
CALSCALE:GREGORIAN
BEGIN:VEVENT
UID:e5845830d11c60f0152519f6e7b363fc
DTSTAMP:20260421T100815Z
SUMMARY:3:30PM rGEN SUPPER WITH SURVIVORS
DESCRIPTION:Jewish Federation & Foundation of Northeast Florida\nFederation
  events and programs\nhttps://jewishjacksonville.org/federation-events-and
 -programs/330pm-rgen-supper-with-survivors-216209\n\nEvent to create relat
 ionships between rGEN young professionals and our community's First Genera
 tion Holocaust Survivors. Partnership with JFCS's Holocaust Survivor Comm
 unity Engagement Committee and hosted by River Garden Senior Services. FRE
 E for Survivors\, $36 per young professional. 
DTSTART;TZID=America/New_York:20170521T153000
DTEND;TZID=America/New_York:20170521T170000
END:VEVENT
END:VCALENDAR
