BEGIN:VCALENDAR
PRODID:-//eluceo/ical//2.0/EN
VERSION:2.0
CALSCALE:GREGORIAN
BEGIN:VEVENT
UID:35d467cfc9438306de715341a81bc839
DTSTAMP:20260423T084828Z
SUMMARY:5:15 Federation Allocations Committee Meeting
DESCRIPTION:Jewish Federation & Foundation of Northeast Florida\nFederation
  events and programs\nhttps://jewishjacksonville.org/federation-events-and
 -programs/2016-allocations-committee-meeting-1-155401\n\nFederation Alloca
 tions Committee meeting one.
DTSTART;TZID=America/New_York:20160404T171500
DTEND;TZID=America/New_York:20160404T213000
END:VEVENT
END:VCALENDAR
