BEGIN:VCALENDAR
PRODID:-//eluceo/ical//2.0/EN
VERSION:2.0
CALSCALE:GREGORIAN
BEGIN:VEVENT
UID:297e065f0f32896b2c1ea911b133b844
DTSTAMP:20260420T110200Z
SUMMARY:1:30 PM Community What’s the Buzz on the New Year?
DESCRIPTION:Jewish Federation & Foundation of Northeast Florida\nFederation
  events and programs\nhttps://jewishjacksonville.org/federation-events-and
 -programs/130-pm--whats-the-buzz-on-the-new-year-412891\n\nWhat’s the Bu
 zz on the New Year? \n\n\n\n\nBring your family to learn about bees and h
 ow they make honey! To celebrate Rosh Hashanah\, the Jewish new year\, we 
 will have an apple and honey tasting\, share a book and make a craft. This
  is a partenership program with JCA\, PJ Library\, Jewish Federation & Fou
 ndation of Northeast Florida and all of our local synagogues. \n\nSun\, Se
 p 11 | 1:30 pm\nCongregation Ahavath Chesed - The Temple\nFree to the co
 mmunity \n\nPlease click here to regi...
DTSTART;TZID=America/New_York:20220911T133000
DTEND;TZID=America/New_York:20220911T153000
END:VEVENT
END:VCALENDAR
