BEGIN:VCALENDAR
PRODID:-//eluceo/ical//2.0/EN
VERSION:2.0
CALSCALE:GREGORIAN
BEGIN:VEVENT
UID:2d7552065cfdc7cbbea6bbf3e079ef2a
DTSTAMP:20260424T124523Z
SUMMARY:Erev Yom Kippur
DESCRIPTION:Jewish Federation & Foundation of Northeast Florida\nFederation
  events and programs\nhttps://jewishjacksonville.org/federation-events-and
 -programs/12am-erev-yom-kippur2016-175628\n\nErev Yom Kippur
DTSTART;TZID=America/New_York:20161011T000000
DTEND;TZID=America/New_York:20161011T235500
END:VEVENT
END:VCALENDAR
