BEGIN:VCALENDAR
PRODID:-//eluceo/ical//2.0/EN
VERSION:2.0
CALSCALE:GREGORIAN
BEGIN:VEVENT
UID:f839022283a232b30d32b7b0cf7b5f37
DTSTAMP:20260422T174910Z
SUMMARY:10:00AM Federation Society of Healers Event
DESCRIPTION:Jewish Federation & Foundation of Northeast Florida\nFederation
  events and programs\nhttps://jewishjacksonville.org/federation-events-and
 -programs/1030am-federation-society-of-healers-event2015-127821\n\n2015 So
 ciety of Healers Event - all medical professionals invited to attend.
DTSTART;TZID=America/New_York:20150301T100000
DTEND;TZID=America/New_York:20150301T120000
END:VEVENT
END:VCALENDAR
