BEGIN:VCALENDAR
PRODID:-//eluceo/ical//2.0/EN
VERSION:2.0
CALSCALE:GREGORIAN
BEGIN:VEVENT
UID:42e56a5afbcf7ca0a5d10e1151020371
DTSTAMP:20260421T131651Z
SUMMARY:10:00AM FUNDRAISER FEDERATION SUPER SUNDAY
DESCRIPTION:Jewish Federation & Foundation of Northeast Florida\nFederation
  events and programs\nhttps://jewishjacksonville.org/federation-events-and
 -programs/1000am-fundraiser-federation-super-sunday-192418\n\nAnnual call-
 a-thon to support Federation's 2017 Campaign. Volunteers to arrive at 9:30
  for free breakfast\, training & volunteer appreciation raffle. Hosted by 
 the Jewish Community Alliance. 
DTSTART;TZID=America/New_York:20170205T100000
DTEND;TZID=America/New_York:20170205T130000
END:VEVENT
END:VCALENDAR
