BEGIN:VCALENDAR
PRODID:-//eluceo/ical//2.0/EN
VERSION:2.0
CALSCALE:GREGORIAN
BEGIN:VEVENT
UID:236b6b3155aabc502398ad73111b4195
DTSTAMP:20260425T013103Z
SUMMARY:10:00 AM Women's Philanthropy Connections!
DESCRIPTION:Jewish Federation & Foundation of Northeast Florida\nFederation
  events and programs\nhttps://jewishjacksonville.org/federation-events-and
 -programs/1000-am-womens-philanthropy-connections-430200\n\nJoin us for an
  introduction to mahjong\n\nLearn the history\, why it's popular among Jew
 ish women\, and receive a brief lesson. \n\n No previous experience requ
 ired.\n\nThursday\, March 9\n\n10:00 AM\n\nHome of Risa Herman
DTSTART;TZID=America/New_York:20230309T100000
DTEND;TZID=America/New_York:20230309T113000
END:VEVENT
END:VCALENDAR
