BEGIN:VCALENDAR
PRODID:-//eluceo/ical//2.0/EN
VERSION:2.0
CALSCALE:GREGORIAN
BEGIN:VEVENT
UID:90cd2b27b01bed24e2b5bf56240514ef
DTSTAMP:20260424T064601Z
SUMMARY:10 AM Women's Philanthropy LEAD
DESCRIPTION:Jewish Federation & Foundation of Northeast Florida\nFederation
  events and programs\nhttps://jewishjacksonville.org/federation-events-and
 -programs/10-am-womens-philanthropy-leadMay-414340\n\nYour Future 
DTSTART;TZID=America/New_York:20230511T100000
DTEND;TZID=America/New_York:20230511T120000
END:VEVENT
END:VCALENDAR
